Package: arrayQuality Version: 1.84.0 Command: rm -rf arrayQuality.buildbin-libdir && mkdir arrayQuality.buildbin-libdir && F:\biocbuild\bbs-3.20-bioc\R\bin\R.exe CMD INSTALL --build --library=arrayQuality.buildbin-libdir arrayQuality_1.84.0.tar.gz StartedAt: 2025-02-04 07:59:04 -0500 (Tue, 04 Feb 2025) EndedAt: 2025-02-04 07:59:40 -0500 (Tue, 04 Feb 2025) EllapsedTime: 36.7 seconds RetCode: 0 Status: OK PackageFile: arrayQuality_1.84.0.zip PackageFileSize: 12.01 MiB