Package: arrayQuality Version: 1.84.0 Command: F:\biocbuild\bbs-3.20-bioc\R\bin\R.exe CMD check --no-multiarch --install=check:arrayQuality.install-out.txt --library=F:\biocbuild\bbs-3.20-bioc\R\library --no-vignettes --timings arrayQuality_1.84.0.tar.gz StartedAt: 2025-02-03 23:10:57 -0500 (Mon, 03 Feb 2025) EndedAt: 2025-02-03 23:11:50 -0500 (Mon, 03 Feb 2025) EllapsedTime: 52.4 seconds RetCode: 0 Status: WARNINGS CheckDir: arrayQuality.Rcheck Warnings: 1