Package: arrayQuality Version: 1.84.0 Command: F:\biocbuild\bbs-3.20-bioc\R\bin\R.exe CMD INSTALL arrayQuality StartedAt: 2025-02-03 15:38:39 -0500 (Mon, 03 Feb 2025) EndedAt: 2025-02-03 15:39:38 -0500 (Mon, 03 Feb 2025) EllapsedTime: 59.1 seconds RetCode: 0 Status: OK