Package: arrayQualityMetrics Version: 3.62.0 Command: /Library/Frameworks/R.framework/Resources/bin/R CMD INSTALL arrayQualityMetrics StartedAt: 2025-02-03 17:08:08 -0500 (Mon, 03 Feb 2025) EndedAt: 2025-02-03 17:08:36 -0500 (Mon, 03 Feb 2025) EllapsedTime: 27.8 seconds RetCode: 0 Status: OK