Package: arrayQualityMetrics Version: 3.62.0 Command: /home/biocbuild/R/R/bin/R CMD check --install=check:arrayQualityMetrics.install-out.txt --library=/home/biocbuild/R/R/site-library --no-vignettes --timings arrayQualityMetrics_3.62.0.tar.gz StartedAt: 2024-11-20 05:11:23 -0000 (Wed, 20 Nov 2024) EndedAt: 2024-11-20 05:14:39 -0000 (Wed, 20 Nov 2024) EllapsedTime: 196.5 seconds RetCode: 0 Status: OK CheckDir: arrayQualityMetrics.Rcheck Warnings: 0