Package: arrayQualityMetrics Version: 3.62.0 Command: chmod a+r arrayQualityMetrics -R && F:\biocbuild\bbs-3.20-bioc\R\bin\R.exe CMD build --keep-empty-dirs --no-resave-data arrayQualityMetrics StartedAt: 2025-02-03 17:31:30 -0500 (Mon, 03 Feb 2025) EndedAt: 2025-02-03 17:39:47 -0500 (Mon, 03 Feb 2025) EllapsedTime: 497.0 seconds RetCode: 0 Status: OK PackageFile: arrayQualityMetrics_3.62.0.tar.gz PackageFileSize: 599.4 KiB