Package: arrayQualityMetrics Version: 3.62.0 Command: /home/biocbuild/R/R/bin/R CMD build --keep-empty-dirs --no-resave-data arrayQualityMetrics StartedAt: 2025-02-03 21:39:10 -0000 (Mon, 03 Feb 2025) EndedAt: 2025-02-03 21:45:25 -0000 (Mon, 03 Feb 2025) EllapsedTime: 375.1 seconds RetCode: 0 Status: OK PackageFile: arrayQualityMetrics_3.62.0.tar.gz PackageFileSize: 583.8 KiB