Package: arrayQualityMetrics Version: 3.62.0 Command: /home/biocbuild/R/R/bin/R CMD INSTALL arrayQualityMetrics StartedAt: 2025-02-03 21:04:54 -0000 (Mon, 03 Feb 2025) EndedAt: 2025-02-03 21:05:23 -0000 (Mon, 03 Feb 2025) EllapsedTime: 29.8 seconds RetCode: 0 Status: OK