Package: artMS Version: 1.24.0 Command: rm -rf artMS.buildbin-libdir && mkdir artMS.buildbin-libdir && /Users/biocbuild/BBS/utils/build-universal.sh artMS_1.24.0.tar.gz /Library/Frameworks/R.framework/Resources/bin/R artMS.buildbin-libdir StartedAt: 2025-02-01 13:54:57 -0500 (Sat, 01 Feb 2025) EndedAt: 2025-02-01 13:55:35 -0500 (Sat, 01 Feb 2025) EllapsedTime: 37.5 seconds RetCode: 0 Status: OK PackageFile: artMS_1.24.0.tgz PackageFileSize: 3.347 MiB