Package: artMS Version: 1.24.0 Command: /Library/Frameworks/R.framework/Resources/bin/R CMD check --install=check:artMS.install-out.txt --library=/Library/Frameworks/R.framework/Resources/library --no-vignettes --timings artMS_1.24.0.tar.gz StartedAt: 2025-01-31 11:15:21 -0500 (Fri, 31 Jan 2025) EndedAt: 2025-01-31 11:18:39 -0500 (Fri, 31 Jan 2025) EllapsedTime: 198.1 seconds RetCode: 0 Status: OK CheckDir: artMS.Rcheck Warnings: 0