Package: artMS Version: 1.24.0 Command: /Library/Frameworks/R.framework/Resources/bin/R CMD INSTALL artMS StartedAt: 2025-01-30 18:03:15 -0500 (Thu, 30 Jan 2025) EndedAt: 2025-01-30 18:03:48 -0500 (Thu, 30 Jan 2025) EllapsedTime: 33.5 seconds RetCode: 0 Status: OK