Package: artMS Version: 1.24.0 Command: /Library/Frameworks/R.framework/Resources/bin/R CMD check --install=check:artMS.install-out.txt --library=/Library/Frameworks/R.framework/Resources/library --no-vignettes --timings artMS_1.24.0.tar.gz StartedAt: 2024-11-19 19:33:15 -0500 (Tue, 19 Nov 2024) EndedAt: 2024-11-19 19:39:22 -0500 (Tue, 19 Nov 2024) EllapsedTime: 366.8 seconds RetCode: 0 Status: OK CheckDir: artMS.Rcheck Warnings: 0