Package: artMS Version: 1.24.0 Command: /Library/Frameworks/R.framework/Resources/bin/R CMD build --keep-empty-dirs --no-resave-data artMS StartedAt: 2025-01-30 17:09:12 -0500 (Thu, 30 Jan 2025) EndedAt: 2025-01-30 17:11:15 -0500 (Thu, 30 Jan 2025) EllapsedTime: 122.8 seconds RetCode: 0 Status: OK PackageFile: artMS_1.24.0.tar.gz PackageFileSize: 3.978 MiB