Package: artMS Version: 1.24.0 Command: rm -rf artMS.buildbin-libdir && mkdir artMS.buildbin-libdir && F:\biocbuild\bbs-3.20-bioc\R\bin\R.exe CMD INSTALL --build --library=artMS.buildbin-libdir artMS_1.24.0.tar.gz StartedAt: 2025-01-31 08:09:48 -0500 (Fri, 31 Jan 2025) EndedAt: 2025-01-31 08:10:41 -0500 (Fri, 31 Jan 2025) EllapsedTime: 53.1 seconds RetCode: 0 Status: OK PackageFile: artMS_1.24.0.zip PackageFileSize: 2.874 MiB