Package: artMS Version: 1.24.0 Command: chmod a+r artMS -R && F:\biocbuild\bbs-3.20-bioc\R\bin\R.exe CMD build --keep-empty-dirs --no-resave-data artMS StartedAt: 2025-01-30 17:19:47 -0500 (Thu, 30 Jan 2025) EndedAt: 2025-01-30 17:21:15 -0500 (Thu, 30 Jan 2025) EllapsedTime: 87.4 seconds RetCode: 0 Status: OK PackageFile: artMS_1.24.0.tar.gz PackageFileSize: 3.522 MiB