Package: artMS Version: 1.24.0 Command: F:\biocbuild\bbs-3.20-bioc\R\bin\R.exe CMD check --no-multiarch --install=check:artMS.install-out.txt --library=F:\biocbuild\bbs-3.20-bioc\R\library --no-vignettes --timings artMS_1.24.0.tar.gz StartedAt: 2025-01-30 23:25:49 -0500 (Thu, 30 Jan 2025) EndedAt: 2025-01-30 23:29:22 -0500 (Thu, 30 Jan 2025) EllapsedTime: 212.8 seconds RetCode: 0 Status: OK CheckDir: artMS.Rcheck Warnings: 0