Package: artMS Version: 1.24.0 Command: /home/biocbuild/R/R/bin/R CMD build --keep-empty-dirs --no-resave-data artMS StartedAt: 2025-01-30 21:34:21 -0000 (Thu, 30 Jan 2025) EndedAt: 2025-01-30 21:35:30 -0000 (Thu, 30 Jan 2025) EllapsedTime: 69.0 seconds RetCode: 0 Status: OK PackageFile: artMS_1.24.0.tar.gz PackageFileSize: 3.653 MiB