Package: atSNP Version: 1.22.0 Command: /Library/Frameworks/R.framework/Resources/bin/R CMD build --keep-empty-dirs --no-resave-data atSNP StartedAt: 2025-02-03 18:54:51 -0500 (Mon, 03 Feb 2025) EndedAt: 2025-02-03 18:56:31 -0500 (Mon, 03 Feb 2025) EllapsedTime: 99.8 seconds RetCode: 0 Status: OK PackageFile: atSNP_1.22.0.tar.gz PackageFileSize: 1.029 MiB