Package: atSNP Version: 1.22.0 Command: /Library/Frameworks/R.framework/Resources/bin/R CMD INSTALL atSNP StartedAt: 2025-02-03 16:59:44 -0500 (Mon, 03 Feb 2025) EndedAt: 2025-02-03 17:00:51 -0500 (Mon, 03 Feb 2025) EllapsedTime: 66.6 seconds RetCode: 0 Status: OK