Package: atSNP Version: 1.22.0 Command: /home/biocbuild/R/R/bin/R CMD build --keep-empty-dirs --no-resave-data atSNP StartedAt: 2025-02-03 21:41:59 -0000 (Mon, 03 Feb 2025) EndedAt: 2025-02-03 21:43:53 -0000 (Mon, 03 Feb 2025) EllapsedTime: 114.0 seconds RetCode: 0 Status: OK PackageFile: atSNP_1.22.0.tar.gz PackageFileSize: 857.4 KiB