Package: atena Version: 1.12.0 Command: rm -rf atena.buildbin-libdir && mkdir atena.buildbin-libdir && /Users/biocbuild/BBS/utils/build-universal.sh atena_1.12.0.tar.gz /Library/Frameworks/R.framework/Resources/bin/R atena.buildbin-libdir StartedAt: 2025-02-05 14:50:49 -0500 (Wed, 05 Feb 2025) EndedAt: 2025-02-05 14:51:41 -0500 (Wed, 05 Feb 2025) EllapsedTime: 52.2 seconds RetCode: 0 Status: OK PackageFile: atena_1.12.0.tgz PackageFileSize: 1.754 MiB