Package: atena
Version: 1.12.0
Command: rm -rf atena.buildbin-libdir && mkdir atena.buildbin-libdir && /Users/biocbuild/BBS/utils/build-universal.sh atena_1.12.0.tar.gz /Library/Frameworks/R.framework/Resources/bin/R atena.buildbin-libdir
StartedAt: 2024-11-09 16:37:43 -0500 (Sat, 09 Nov 2024)
EndedAt: 2024-11-09 16:38:00 -0500 (Sat, 09 Nov 2024)
EllapsedTime: 17.3 seconds
RetCode: 0
Status: OK
PackageFile: atena_1.12.0.tgz
PackageFileSize: 1.751 <A href="http://en.wikipedia.org/wiki/MiB" target="_blank">MiB</A>