Package: atena
Version: 1.12.0
Command: /Library/Frameworks/R.framework/Resources/bin/R CMD check --install=check:atena.install-out.txt --library=/Library/Frameworks/R.framework/Resources/library --no-vignettes --timings atena_1.12.0.tar.gz
StartedAt: 2024-11-19 19:35:47 -0500 (Tue, 19 Nov 2024)
EndedAt: 2024-11-19 19:44:57 -0500 (Tue, 19 Nov 2024)
EllapsedTime: 549.8 seconds
RetCode: 0
Status: OK
CheckDir: atena.Rcheck
Warnings: 0