Package: atena Version: 1.12.0 Command: rm -rf atena.buildbin-libdir && mkdir atena.buildbin-libdir && /Users/biocbuild/BBS/utils/build-universal.sh atena_1.12.0.tar.gz /Library/Frameworks/R.framework/Resources/bin/R atena.buildbin-libdir StartedAt: 2025-02-04 12:28:49 -0500 (Tue, 04 Feb 2025) EndedAt: 2025-02-04 12:30:21 -0500 (Tue, 04 Feb 2025) EllapsedTime: 91.9 seconds RetCode: 0 Status: OK PackageFile: atena_1.12.0.tgz PackageFileSize: 1.753 MiB