Package: atena Version: 1.12.0 Command: /Library/Frameworks/R.framework/Resources/bin/R CMD build --keep-empty-dirs --no-resave-data atena StartedAt: 2025-02-03 17:08:07 -0500 (Mon, 03 Feb 2025) EndedAt: 2025-02-03 17:40:04 -0500 (Mon, 03 Feb 2025) EllapsedTime: 1917.0 seconds RetCode: 0 Status: OK PackageFile: atena_1.12.0.tar.gz PackageFileSize: 1.282 MiB