Package: atena Version: 1.12.0 Command: /Library/Frameworks/R.framework/Resources/bin/R CMD check --install=check:atena.install-out.txt --library=/Library/Frameworks/R.framework/Resources/library --no-vignettes --timings atena_1.12.0.tar.gz StartedAt: 2025-02-03 23:50:05 -0500 (Mon, 03 Feb 2025) EndedAt: 2025-02-04 00:04:12 -0500 (Tue, 04 Feb 2025) EllapsedTime: 846.6 seconds RetCode: 0 Status: OK CheckDir: atena.Rcheck Warnings: 0