Package: atena Version: 1.12.0 Command: /Library/Frameworks/R.framework/Resources/bin/R CMD INSTALL atena StartedAt: 2025-02-03 15:41:29 -0500 (Mon, 03 Feb 2025) EndedAt: 2025-02-03 15:42:54 -0500 (Mon, 03 Feb 2025) EllapsedTime: 85.4 seconds RetCode: 0 Status: OK