Package: atena Version: 1.12.0 Command: /home/biocbuild/bbs-3.20-bioc/R/bin/R CMD build --keep-empty-dirs --no-resave-data --md5 atena StartedAt: 2025-02-03 16:22:43 -0500 (Mon, 03 Feb 2025) EndedAt: 2025-02-03 16:34:30 -0500 (Mon, 03 Feb 2025) EllapsedTime: 707.6 seconds RetCode: 0 Status: OK PackageFile: atena_1.12.0.tar.gz PackageFileSize: 1.283 MiB