Package: atena Version: 1.12.0 Command: /home/biocbuild/bbs-3.20-bioc/R/bin/R CMD check --install=check:atena.install-out.txt --library=/home/biocbuild/bbs-3.20-bioc/R/site-library --timings atena_1.12.0.tar.gz StartedAt: 2025-02-03 20:08:23 -0500 (Mon, 03 Feb 2025) EndedAt: 2025-02-03 20:26:27 -0500 (Mon, 03 Feb 2025) EllapsedTime: 1084.6 seconds RetCode: 0 Status: OK CheckDir: atena.Rcheck Warnings: 0