Package: atena Version: 1.12.0 Command: /home/biocbuild/bbs-3.20-bioc/R/bin/R CMD INSTALL atena StartedAt: 2025-02-03 15:31:28 -0500 (Mon, 03 Feb 2025) EndedAt: 2025-02-03 15:32:07 -0500 (Mon, 03 Feb 2025) EllapsedTime: 39.4 seconds RetCode: 0 Status: OK