Package: autonomics Version: 1.14.8 Command: rm -rf autonomics.buildbin-libdir && mkdir autonomics.buildbin-libdir && /Users/biocbuild/BBS/utils/build-universal.sh autonomics_1.14.8.tar.gz /Library/Frameworks/R.framework/Resources/bin/R autonomics.buildbin-libdir StartedAt: 2025-02-01 13:56:41 -0500 (Sat, 01 Feb 2025) EndedAt: 2025-02-01 13:57:29 -0500 (Sat, 01 Feb 2025) EllapsedTime: 47.9 seconds RetCode: 0 Status: OK PackageFile: autonomics_1.14.8.tgz PackageFileSize: 3.463 MiB