Package: autonomics Version: 1.14.8 Command: /Library/Frameworks/R.framework/Resources/bin/R CMD INSTALL autonomics StartedAt: 2025-01-30 15:42:50 -0500 (Thu, 30 Jan 2025) EndedAt: 2025-01-30 15:43:33 -0500 (Thu, 30 Jan 2025) EllapsedTime: 43.0 seconds RetCode: 0 Status: OK