Package: autonomics Version: 1.14.8 Command: rm -rf autonomics.buildbin-libdir && mkdir autonomics.buildbin-libdir && /Users/biocbuild/BBS/utils/build-universal.sh autonomics_1.14.8.tar.gz /Library/Frameworks/R.framework/Resources/bin/R autonomics.buildbin-libdir StartedAt: 2025-01-31 12:21:04 -0500 (Fri, 31 Jan 2025) EndedAt: 2025-01-31 12:22:36 -0500 (Fri, 31 Jan 2025) EllapsedTime: 91.4 seconds RetCode: 0 Status: OK PackageFile: autonomics_1.14.8.tgz PackageFileSize: 3.466 MiB