Package: autonomics Version: 1.14.8 Command: /home/biocbuild/bbs-3.20-bioc/R/bin/R CMD check --install=check:autonomics.install-out.txt --library=/home/biocbuild/bbs-3.20-bioc/R/site-library --timings autonomics_1.14.8.tar.gz StartedAt: 2025-01-30 19:59:01 -0500 (Thu, 30 Jan 2025) EndedAt: 2025-01-30 20:13:39 -0500 (Thu, 30 Jan 2025) EllapsedTime: 878.4 seconds RetCode: 0 Status: OK CheckDir: autonomics.Rcheck Warnings: 0