Package: autonomics Version: 1.14.8 Command: chmod a+r autonomics -R && F:\biocbuild\bbs-3.20-bioc\R\bin\R.exe CMD build --keep-empty-dirs --no-resave-data autonomics StartedAt: 2025-01-30 17:22:07 -0500 (Thu, 30 Jan 2025) EndedAt: 2025-01-30 17:25:30 -0500 (Thu, 30 Jan 2025) EllapsedTime: 202.7 seconds RetCode: 0 Status: OK PackageFile: autonomics_1.14.8.tar.gz PackageFileSize: 1.329 MiB