Package: awst Version: 1.14.0 Command: rm -rf awst.buildbin-libdir && mkdir awst.buildbin-libdir && F:\biocbuild\bbs-3.20-bioc\R\bin\R.exe CMD INSTALL --build --library=awst.buildbin-libdir awst_1.14.0.tar.gz StartedAt: 2025-02-04 07:59:53 -0500 (Tue, 04 Feb 2025) EndedAt: 2025-02-04 08:00:20 -0500 (Tue, 04 Feb 2025) EllapsedTime: 26.8 seconds RetCode: 0 Status: OK PackageFile: awst_1.14.0.zip PackageFileSize: 358.8 KiB