Package: awst Version: 1.14.0 Command: chmod a+r awst -R && F:\biocbuild\bbs-3.20-bioc\R\bin\R.exe CMD build --keep-empty-dirs --no-resave-data awst StartedAt: 2025-02-03 17:35:16 -0500 (Mon, 03 Feb 2025) EndedAt: 2025-02-03 17:36:17 -0500 (Mon, 03 Feb 2025) EllapsedTime: 61.3 seconds RetCode: 0 Status: OK PackageFile: awst_1.14.0.tar.gz PackageFileSize: 337.3 KiB