Package: awst Version: 1.14.0 Command: F:\biocbuild\bbs-3.20-bioc\R\bin\R.exe CMD check --no-multiarch --install=check:awst.install-out.txt --library=F:\biocbuild\bbs-3.20-bioc\R\library --no-vignettes --timings awst_1.14.0.tar.gz StartedAt: 2025-02-03 23:15:44 -0500 (Mon, 03 Feb 2025) EndedAt: 2025-02-03 23:18:39 -0500 (Mon, 03 Feb 2025) EllapsedTime: 174.4 seconds RetCode: 0 Status: OK CheckDir: awst.Rcheck Warnings: 0