Package: awst Version: 1.14.0 Command: F:\biocbuild\bbs-3.20-bioc\R\bin\R.exe CMD INSTALL awst StartedAt: 2025-02-03 16:19:24 -0500 (Mon, 03 Feb 2025) EndedAt: 2025-02-03 16:19:45 -0500 (Mon, 03 Feb 2025) EllapsedTime: 21.3 seconds RetCode: 0 Status: OK