Package: awst Version: 1.14.0 Command: /home/biocbuild/R/R/bin/R CMD INSTALL awst StartedAt: 2025-02-03 20:31:02 -0000 (Mon, 03 Feb 2025) EndedAt: 2025-02-03 20:31:26 -0000 (Mon, 03 Feb 2025) EllapsedTime: 24.3 seconds RetCode: 0 Status: OK