Package: bacon Version: 1.34.0 Command: /Library/Frameworks/R.framework/Resources/bin/R CMD build --keep-empty-dirs --no-resave-data bacon StartedAt: 2025-01-30 19:09:08 -0500 (Thu, 30 Jan 2025) EndedAt: 2025-01-30 19:09:57 -0500 (Thu, 30 Jan 2025) EllapsedTime: 49.2 seconds RetCode: 0 Status: OK PackageFile: bacon_1.34.0.tar.gz PackageFileSize: 2.044 MiB