Package: bacon Version: 1.34.0 Command: /Library/Frameworks/R.framework/Resources/bin/R CMD check --install=check:bacon.install-out.txt --library=/Library/Frameworks/R.framework/Resources/library --no-vignettes --timings bacon_1.34.0.tar.gz StartedAt: 2025-01-31 00:22:13 -0500 (Fri, 31 Jan 2025) EndedAt: 2025-01-31 00:23:59 -0500 (Fri, 31 Jan 2025) EllapsedTime: 105.7 seconds RetCode: 0 Status: OK CheckDir: bacon.Rcheck Warnings: 0