Package: bacon Version: 1.34.0 Command: chmod a+r bacon -R && F:\biocbuild\bbs-3.20-bioc\R\bin\R.exe CMD build --keep-empty-dirs --no-resave-data bacon StartedAt: 2025-01-30 17:22:52 -0500 (Thu, 30 Jan 2025) EndedAt: 2025-01-30 17:24:09 -0500 (Thu, 30 Jan 2025) EllapsedTime: 76.8 seconds RetCode: 0 Status: OK PackageFile: bacon_1.34.0.tar.gz PackageFileSize: 592.4 KiB