Package: bacon Version: 1.34.0 Command: /home/biocbuild/R/R/bin/R CMD INSTALL bacon StartedAt: 2025-01-30 20:20:22 -0000 (Thu, 30 Jan 2025) EndedAt: 2025-01-30 20:20:28 -0000 (Thu, 30 Jan 2025) EllapsedTime: 6.7 seconds RetCode: 0 Status: OK