Package: bambu Version: 3.8.1 Command: /Library/Frameworks/R.framework/Resources/bin/R CMD build --keep-empty-dirs --no-resave-data bambu StartedAt: 2025-02-03 19:01:15 -0500 (Mon, 03 Feb 2025) EndedAt: 2025-02-03 19:13:47 -0500 (Mon, 03 Feb 2025) EllapsedTime: 751.8 seconds RetCode: 0 Status: OK PackageFile: bambu_3.8.1.tar.gz PackageFileSize: 2.291 MiB