Package: bambu Version: 3.8.1 Command: /home/biocbuild/bbs-3.20-bioc/R/bin/R CMD check --install=check:bambu.install-out.txt --library=/home/biocbuild/bbs-3.20-bioc/R/site-library --timings bambu_3.8.1.tar.gz StartedAt: 2025-02-03 20:11:22 -0500 (Mon, 03 Feb 2025) EndedAt: 2025-02-03 20:30:08 -0500 (Mon, 03 Feb 2025) EllapsedTime: 1125.8 seconds RetCode: 0 Status: OK CheckDir: bambu.Rcheck Warnings: 0