Package: bambu Version: 3.8.1 Command: rm -rf bambu.buildbin-libdir && mkdir bambu.buildbin-libdir && F:\biocbuild\bbs-3.20-bioc\R\bin\R.exe CMD INSTALL --build --library=bambu.buildbin-libdir bambu_3.8.1.tar.gz StartedAt: 2025-02-04 08:00:19 -0500 (Tue, 04 Feb 2025) EndedAt: 2025-02-04 08:01:36 -0500 (Tue, 04 Feb 2025) EllapsedTime: 77.9 seconds RetCode: 0 Status: OK PackageFile: bambu_3.8.1.zip PackageFileSize: 2.141 MiB