Package: bambu Version: 3.8.1 Command: chmod a+r bambu -R && F:\biocbuild\bbs-3.20-bioc\R\bin\R.exe CMD build --keep-empty-dirs --no-resave-data bambu StartedAt: 2025-02-03 17:36:05 -0500 (Mon, 03 Feb 2025) EndedAt: 2025-02-03 17:52:43 -0500 (Mon, 03 Feb 2025) EllapsedTime: 998.1 seconds RetCode: 0 Status: OK PackageFile: bambu_3.8.1.tar.gz PackageFileSize: 2.047 MiB