Package: bambu Version: 3.8.1 Command: /home/biocbuild/R/R/bin/R CMD INSTALL bambu StartedAt: 2025-02-03 20:42:53 -0000 (Mon, 03 Feb 2025) EndedAt: 2025-02-03 20:44:04 -0000 (Mon, 03 Feb 2025) EllapsedTime: 71.2 seconds RetCode: 0 Status: OK