Package: bamsignals Version: 1.38.0 Command: /Library/Frameworks/R.framework/Resources/bin/R CMD build --keep-empty-dirs --no-resave-data bamsignals StartedAt: 2025-02-03 19:01:38 -0500 (Mon, 03 Feb 2025) EndedAt: 2025-02-03 19:02:14 -0500 (Mon, 03 Feb 2025) EllapsedTime: 35.5 seconds RetCode: 0 Status: OK PackageFile: bamsignals_1.38.0.tar.gz PackageFileSize: 3.151 MiB